BEGIN:VCALENDAR
VERSION:2.0
PRODID:icalendar-ruby
CALSCALE:GREGORIAN
METHOD:PUBLISH
BEGIN:VEVENT
DTSTAMP:20260423T233642Z
UID:7-981241@wakemansgrove.com
DTSTART:20261021T230000Z
DTEND:20261022T000000Z
CLASS:PUBLIC
CREATED:20260423T192817
DESCRIPTION:
LAST-MODIFIED:20260423T192817
LOCATION:Adult Classroom
SUMMARY:Prayer Meeting
URL;VALUE=URI:https://www.wakemansgrove.com/events/prayer-meeting/2026-10-2
 1
ATTACH;FILENAME=myKv.jpg;FMTTYPE=image/jpeg:https://dq5pwpg1q8ru0.cloudfron
 t.net/2023/03/28/19/24/17/d48dd460-9cd1-4895-af16-9bdcae5c71da/myKv.jpg
END:VEVENT
END:VCALENDAR
